BEGIN:VCALENDAR
VERSION:2.0
PRODID:-//Grace of the Lord Ministries - ECPv6.15.11//NONSGML v1.0//EN
CALSCALE:GREGORIAN
METHOD:PUBLISH
X-WR-CALNAME:Grace of the Lord Ministries
X-ORIGINAL-URL:https://graceofthelordministries.com
X-WR-CALDESC:Events for Grace of the Lord Ministries
REFRESH-INTERVAL;VALUE=DURATION:PT1H
X-Robots-Tag:noindex
X-PUBLISHED-TTL:PT1H
BEGIN:VTIMEZONE
TZID:UTC
BEGIN:STANDARD
TZOFFSETFROM:+0000
TZOFFSETTO:+0000
TZNAME:UTC
DTSTART:20240101T000000
END:STANDARD
END:VTIMEZONE
BEGIN:VEVENT
DTSTART;TZID=UTC:20251231T220000
DTEND;TZID=UTC:20260101T020000
DTSTAMP:20260420T073841
CREATED:20170126T142536Z
LAST-MODIFIED:20251228T114707Z
UID:279-1767218400-1767232800@graceofthelordministries.com
SUMMARY:New Year Service
DESCRIPTION:Grace of the Lord Ministries invites you\, friends and family to join us for New Year Service on 31st of December at 22:00.
URL:https://graceofthelordministries.com/event/new-year-service/
LOCATION:Växthuset\, Patron Pehrs väg 3\, Huddinge\, Stockholm\, 14135\, Sweden
CATEGORIES:Our Events,Yearly Events
ATTACH;FMTTYPE=image/jpeg:https://graceofthelordministries.com/wp-content/uploads/2017/01/New-year-2026.jpeg
ORGANIZER;CN="Grace of the Lord Ministries":MAILTO:info@graceofthelordministries.com
END:VEVENT
END:VCALENDAR