BEGIN:VCALENDAR
VERSION:2.0
PRODID:-//Grace of the Lord Ministries - ECPv6.15.11//NONSGML v1.0//EN
CALSCALE:GREGORIAN
METHOD:PUBLISH
X-WR-CALNAME:Grace of the Lord Ministries
X-ORIGINAL-URL:https://graceofthelordministries.com
X-WR-CALDESC:Events for Grace of the Lord Ministries
REFRESH-INTERVAL;VALUE=DURATION:PT1H
X-Robots-Tag:noindex
X-PUBLISHED-TTL:PT1H
BEGIN:VTIMEZONE
TZID:Europe/Stockholm
BEGIN:DAYLIGHT
TZOFFSETFROM:+0100
TZOFFSETTO:+0200
TZNAME:CEST
DTSTART:20250330T010000
END:DAYLIGHT
BEGIN:STANDARD
TZOFFSETFROM:+0200
TZOFFSETTO:+0100
TZNAME:CET
DTSTART:20251026T010000
END:STANDARD
BEGIN:DAYLIGHT
TZOFFSETFROM:+0100
TZOFFSETTO:+0200
TZNAME:CEST
DTSTART:20260329T010000
END:DAYLIGHT
BEGIN:STANDARD
TZOFFSETFROM:+0200
TZOFFSETTO:+0100
TZNAME:CET
DTSTART:20261025T010000
END:STANDARD
BEGIN:DAYLIGHT
TZOFFSETFROM:+0100
TZOFFSETTO:+0200
TZNAME:CEST
DTSTART:20270328T010000
END:DAYLIGHT
BEGIN:STANDARD
TZOFFSETFROM:+0200
TZOFFSETTO:+0100
TZNAME:CET
DTSTART:20271031T010000
END:STANDARD
END:VTIMEZONE
BEGIN:VEVENT
DTSTART;TZID=Europe/Stockholm:20260529T220000
DTEND;TZID=Europe/Stockholm:20260530T040000
DTSTAMP:20260420T010258
CREATED:20250308T211257Z
LAST-MODIFIED:20260207T204438Z
UID:1772-1780092000-1780113600@graceofthelordministries.com
SUMMARY:Night Prayer
DESCRIPTION:“I wait for the LORD\, my soul doth wait\, and in his word do I hope. My soul waiteth for the Lord more than they that watch for the morning: I say\, more than they that watch for the morning.” Psalms 130: 5\,6 \nLast Friday night of every month we gather in our God’s presence to seek for his kindness and to cleanse your heart and to strengthen our spirit\, soul and body. We encourage everyone to join us.
URL:https://graceofthelordministries.com/event/night-prayer-4/
LOCATION:Växthuset\, Patron Pehrs väg 3\, Huddinge\, Stockholm\, 14135\, Sweden
CATEGORIES:Monthly Events
ATTACH;FMTTYPE=image/png:https://graceofthelordministries.com/wp-content/uploads/2026/02/ALL-NIGHT-PRAYER.png
ORGANIZER;CN="Grace of the Lord Ministries":MAILTO:info@graceofthelordministries.com
END:VEVENT
BEGIN:VEVENT
DTSTART;TZID=Europe/Stockholm:20260620T110000
DTEND;TZID=Europe/Stockholm:20260620T130000
DTSTAMP:20260420T010258
CREATED:20241211T112644Z
LAST-MODIFIED:20260207T205235Z
UID:1740-1781953200-1781960400@graceofthelordministries.com
SUMMARY:Pray for Sweden and Israel
DESCRIPTION:“I exhort therefore\, that\, first of all\, supplications\, prayers\, intercessions\, and giving of thanks\, be made for all men; For kings\, and for all that are in authority; that we may lead a quiet and peaceable life in all godliness and honesty”. 1Timothy 2:1\,2 \nGod has kept us in this nation to pray and to mediate for this nation in prayer. Let us be grateful for all the mercy and love and join our hearts in prayer so that the Lord may bless and prosper us along with this nation. \n“Pray for the peace of Jerusalem: they shall prosper that love thee.” Psalms 122:6 \nThe word Israel means God contends or Gods chosen people. We have developed a passion deep in our hearts to pray for the peace and prosper of Israel and for the leaders and politicians so that decisions they take might not affect the tranquillity and holiness of the nation. \nEvery month on third Saturday we gather to pray for Sweden and for the peace of Israel. Please join us if you wish the wellness of the nations.
URL:https://graceofthelordministries.com/event/pray-for-sweden-and-israel-5/
LOCATION:Växthuset\, Patron Pehrs väg 3\, Huddinge\, Stockholm\, 14135\, Sweden
CATEGORIES:Monthly Events
ATTACH;FMTTYPE=image/jpeg:https://graceofthelordministries.com/wp-content/uploads/2024/12/PRAY-FOR-SWEDEN-ISRAEL.jpeg
ORGANIZER;CN="Grace of the Lord Ministries":MAILTO:info@graceofthelordministries.com
END:VEVENT
BEGIN:VEVENT
DTSTART;TZID=Europe/Stockholm:20260626T220000
DTEND;TZID=Europe/Stockholm:20260627T040000
DTSTAMP:20260420T010258
CREATED:20250308T211424Z
LAST-MODIFIED:20260207T204453Z
UID:1774-1782511200-1782532800@graceofthelordministries.com
SUMMARY:Night Prayer
DESCRIPTION:“I wait for the LORD\, my soul doth wait\, and in his word do I hope. My soul waiteth for the Lord more than they that watch for the morning: I say\, more than they that watch for the morning.” Psalms 130: 5\,6 \nLast Friday night of every month we gather in our God’s presence to seek for his kindness and to cleanse your heart and to strengthen our spirit\, soul and body. We encourage everyone to join us.
URL:https://graceofthelordministries.com/event/night-prayer-5/
LOCATION:Växthuset\, Patron Pehrs väg 3\, Huddinge\, Stockholm\, 14135\, Sweden
CATEGORIES:Monthly Events
ATTACH;FMTTYPE=image/png:https://graceofthelordministries.com/wp-content/uploads/2026/02/ALL-NIGHT-PRAYER.png
ORGANIZER;CN="Grace of the Lord Ministries":MAILTO:info@graceofthelordministries.com
END:VEVENT
END:VCALENDAR