BEGIN:VCALENDAR
VERSION:2.0
PRODID:-//Grace of the Lord Ministries - ECPv6.15.11//NONSGML v1.0//EN
CALSCALE:GREGORIAN
METHOD:PUBLISH
X-WR-CALNAME:Grace of the Lord Ministries
X-ORIGINAL-URL:https://graceofthelordministries.com
X-WR-CALDESC:Events for Grace of the Lord Ministries
REFRESH-INTERVAL;VALUE=DURATION:PT1H
X-Robots-Tag:noindex
X-PUBLISHED-TTL:PT1H
BEGIN:VTIMEZONE
TZID:Europe/Stockholm
BEGIN:DAYLIGHT
TZOFFSETFROM:+0100
TZOFFSETTO:+0200
TZNAME:CEST
DTSTART:20250330T010000
END:DAYLIGHT
BEGIN:STANDARD
TZOFFSETFROM:+0200
TZOFFSETTO:+0100
TZNAME:CET
DTSTART:20251026T010000
END:STANDARD
BEGIN:DAYLIGHT
TZOFFSETFROM:+0100
TZOFFSETTO:+0200
TZNAME:CEST
DTSTART:20260329T010000
END:DAYLIGHT
BEGIN:STANDARD
TZOFFSETFROM:+0200
TZOFFSETTO:+0100
TZNAME:CET
DTSTART:20261025T010000
END:STANDARD
BEGIN:DAYLIGHT
TZOFFSETFROM:+0100
TZOFFSETTO:+0200
TZNAME:CEST
DTSTART:20270328T010000
END:DAYLIGHT
BEGIN:STANDARD
TZOFFSETFROM:+0200
TZOFFSETTO:+0100
TZNAME:CET
DTSTART:20271031T010000
END:STANDARD
END:VTIMEZONE
BEGIN:VTIMEZONE
TZID:UTC
BEGIN:STANDARD
TZOFFSETFROM:+0000
TZOFFSETTO:+0000
TZNAME:UTC
DTSTART:20250101T000000
END:STANDARD
END:VTIMEZONE
BEGIN:VEVENT
DTSTART;TZID=Europe/Stockholm:20260314T200000
DTEND;TZID=Europe/Stockholm:20260314T210000
DTSTAMP:20260419T184517
CREATED:20231207T225738Z
LAST-MODIFIED:20260207T204822Z
UID:1676-1773518400-1773522000@graceofthelordministries.com
SUMMARY:Brothers Prayer
DESCRIPTION:“Look how good and how pleasant it is when brothers live together in unity!” Psalm 133:1 \nAs brothers\, we gather together in Christ and pray to God to cleans and strengthen us though Him\, and to give us his divine spirit to lead our family in Christ\, and to bless us to be a blessing to other. \nOur Brothers meeting on every second and fourth Saturday of a month at 20:00. \nJoin us via Zoom: https://us06web.zoom.us/j/6170082006?pwd=YkZ2cWM1djBFSWNHQ2VZdER1WGxwdz09
URL:https://graceofthelordministries.com/event/brothers-prayer-3/
LOCATION:Zoom\, Sweden
CATEGORIES:Our Events,Weekly Events
ATTACH;FMTTYPE=image/jpeg:https://graceofthelordministries.com/wp-content/uploads/2023/12/BROTHERS-MEETING.jpeg
ORGANIZER;CN="Grace of the Lord Ministries":MAILTO:info@graceofthelordministries.com
END:VEVENT
BEGIN:VEVENT
DTSTART;TZID=Europe/Stockholm:20260321T110000
DTEND;TZID=Europe/Stockholm:20260321T130000
DTSTAMP:20260419T184517
CREATED:20241211T112542Z
LAST-MODIFIED:20260207T205141Z
UID:1737-1774090800-1774098000@graceofthelordministries.com
SUMMARY:Pray for Sweden and Israel
DESCRIPTION:“I exhort therefore\, that\, first of all\, supplications\, prayers\, intercessions\, and giving of thanks\, be made for all men; For kings\, and for all that are in authority; that we may lead a quiet and peaceable life in all godliness and honesty”. 1Timothy 2:1\,2 \nGod has kept us in this nation to pray and to mediate for this nation in prayer. Let us be grateful for all the mercy and love and join our hearts in prayer so that the Lord may bless and prosper us along with this nation. \n“Pray for the peace of Jerusalem: they shall prosper that love thee.” Psalms 122:6 \nThe word Israel means God contends or Gods chosen people. We have developed a passion deep in our hearts to pray for the peace and prosper of Israel and for the leaders and politicians so that decisions they take might not affect the tranquillity and holiness of the nation. \nEvery month on third Saturday we gather to pray for Sweden and for the peace of Israel. Please join us if you wish the wellness of the nations.
URL:https://graceofthelordministries.com/event/pray-for-sweden-and-israel-2/
LOCATION:Växthuset\, Patron Pehrs väg 3\, Huddinge\, Stockholm\, 14135\, Sweden
CATEGORIES:Monthly Events
ATTACH;FMTTYPE=image/jpeg:https://graceofthelordministries.com/wp-content/uploads/2024/12/PRAY-FOR-SWEDEN-ISRAEL.jpeg
ORGANIZER;CN="Grace of the Lord Ministries":MAILTO:info@graceofthelordministries.com
END:VEVENT
BEGIN:VEVENT
DTSTART;TZID=UTC:20260322T143000
DTEND;TZID=UTC:20260322T163000
DTSTAMP:20260419T184517
CREATED:20170127T075352Z
LAST-MODIFIED:20260321T104757Z
UID:301-1774189800-1774197000@graceofthelordministries.com
SUMMARY:Sunday Service
DESCRIPTION:“O come\, let us worship and bow down: let us kneel before the LORD our maker”. Psalms 95:6 \nOur Sunday service starts at 14:30. We have a team\, a blend of both youth and senior members anointed by the spirit of excellence to help us leading into praise and thanksgiving for all the goodness he has shown to us. Our senior Pastor and some of our senior members share the word of God. There will be opportunities to share life changing testimonies which may motivate both spiritual and personal development of all our members. \nIt may feel exaggerating but when you have become one of us\, it becomes your new normal. Let’s worship our saviour in truth and spirit. We wholeheartedly welcome you to join us.
URL:https://graceofthelordministries.com/event/sunday-service/
LOCATION:Växthuset\, Patron Pehrs väg 3\, Huddinge\, Stockholm\, 14135\, Sweden
CATEGORIES:Our Events,Weekly Events
ATTACH;FMTTYPE=image/jpeg:https://graceofthelordministries.com/wp-content/uploads/2017/01/SUNDAY-SERVICE-1.jpeg
ORGANIZER;CN="Grace of the Lord Ministries":MAILTO:info@graceofthelordministries.com
END:VEVENT
BEGIN:VEVENT
DTSTART;TZID=UTC:20260324T183000
DTEND;TZID=UTC:20260324T193000
DTSTAMP:20260419T184517
CREATED:20170127T075803Z
LAST-MODIFIED:20260321T104954Z
UID:304-1774377000-1774380600@graceofthelordministries.com
SUMMARY:Womens Prayer
DESCRIPTION:“Bear ye one another’s burdens\, and so fulfil the law of Christ.” Galatians 6:2 \nLet us all join hands together and pray to the Lord with the Spirit and perseverance for revival in the lives of women’s – for revival\, for families to be build and for each one to be transformed into wise women. \nEvery Tuesday sisters join hands together at 18:30 via Zoom: https://us06web.zoom.us/j/6170082006?pwd=YkZ2cWM1djBFSWNHQ2VZdER1WGxwdz09.
URL:https://graceofthelordministries.com/event/womens-prayer/
LOCATION:Zoom\, Sweden
CATEGORIES:Our Events,Weekly Events
ATTACH;FMTTYPE=image/jpeg:https://graceofthelordministries.com/wp-content/uploads/2017/01/WOMENS-PRAYER.jpeg
ORGANIZER;CN="Grace of the Lord Ministries":MAILTO:info@graceofthelordministries.com
END:VEVENT
BEGIN:VEVENT
DTSTART;TZID=Europe/Stockholm:20260325T183000
DTEND;TZID=Europe/Stockholm:20260325T193000
DTSTAMP:20260419T184517
CREATED:20241211T110011Z
LAST-MODIFIED:20260321T105224Z
UID:1710-1774463400-1774467000@graceofthelordministries.com
SUMMARY:Family Prayer
DESCRIPTION:“So we\, though many\, are one body in Christ\, and individually members one of another.” Romans 12:5 \nEvery Wednesday we gather together as a family and pray for all our families in Christ. \nWe encourage everyone to participate via Zoom: https://us06web.zoom.us/j/6170082006?pwd=YkZ2cWM1djBFSWNHQ2VZdER1WGxwdz09.
URL:https://graceofthelordministries.com/event/family-prayer/
LOCATION:Zoom\, Sweden
CATEGORIES:Weekly Events
ATTACH;FMTTYPE=image/jpeg:https://graceofthelordministries.com/wp-content/uploads/2024/12/FAMIL-PRAYER-2025.jpeg
ORGANIZER;CN="Grace of the Lord Ministries":MAILTO:info@graceofthelordministries.com
END:VEVENT
BEGIN:VEVENT
DTSTART;TZID=Europe/Stockholm:20260327T220000
DTEND;TZID=Europe/Stockholm:20260328T040000
DTSTAMP:20260419T184517
CREATED:20241211T114624Z
LAST-MODIFIED:20260207T204413Z
UID:1751-1774648800-1774670400@graceofthelordministries.com
SUMMARY:Night Prayer
DESCRIPTION:“I wait for the LORD\, my soul doth wait\, and in his word do I hope. My soul waiteth for the Lord more than they that watch for the morning: I say\, more than they that watch for the morning.” Psalms 130: 5\,6 \nLast Friday night of every month we gather in our God’s presence to seek for his kindness and to cleanse your heart and to strengthen our spirit\, soul and body. We encourage everyone to join us.
URL:https://graceofthelordministries.com/event/night-prayer-2/
LOCATION:Växthuset\, Patron Pehrs väg 3\, Huddinge\, Stockholm\, 14135\, Sweden
CATEGORIES:Monthly Events
ATTACH;FMTTYPE=image/png:https://graceofthelordministries.com/wp-content/uploads/2026/02/ALL-NIGHT-PRAYER.png
ORGANIZER;CN="Grace of the Lord Ministries":MAILTO:info@graceofthelordministries.com
END:VEVENT
BEGIN:VEVENT
DTSTART;TZID=Europe/Stockholm:20260328T200000
DTEND;TZID=Europe/Stockholm:20260328T210000
DTSTAMP:20260419T184517
CREATED:20231207T225743Z
LAST-MODIFIED:20260207T204838Z
UID:1677-1774728000-1774731600@graceofthelordministries.com
SUMMARY:Brothers Prayer
DESCRIPTION:“Look how good and how pleasant it is when brothers live together in unity!” Psalm 133:1 \nAs brothers\, we gather together in Christ and pray to God to cleans and strengthen us though Him\, and to give us his divine spirit to lead our family in Christ\, and to bless us to be a blessing to other. \nOur Brothers meeting on every second and fourth Saturday of a month at 20:00. \nJoin us via Zoom: https://us06web.zoom.us/j/6170082006?pwd=YkZ2cWM1djBFSWNHQ2VZdER1WGxwdz09
URL:https://graceofthelordministries.com/event/brothers-prayer-4/
LOCATION:Zoom\, Sweden
CATEGORIES:Our Events,Weekly Events
ATTACH;FMTTYPE=image/jpeg:https://graceofthelordministries.com/wp-content/uploads/2023/12/BROTHERS-MEETING.jpeg
ORGANIZER;CN="Grace of the Lord Ministries":MAILTO:info@graceofthelordministries.com
END:VEVENT
BEGIN:VEVENT
DTSTART;TZID=UTC:20260329T143000
DTEND;TZID=UTC:20260329T163000
DTSTAMP:20260419T184517
CREATED:20211231T005507Z
LAST-MODIFIED:20260321T104806Z
UID:1589-1774794600-1774801800@graceofthelordministries.com
SUMMARY:Sunday Service
DESCRIPTION:“O come\, let us worship and bow down: let us kneel before the LORD our maker”. Psalms 95:6 \nOur Sunday service starts at 14:30. We have a team\, a blend of both youth and senior members anointed by the spirit of excellence to help us leading into praise and thanksgiving for all the goodness he has shown to us. Our senior Pastor and some of our senior members share the word of God. There will be opportunities to share life changing testimonies which may motivate both spiritual and personal development of all our members. \nIt may feel exaggerating but when you have become one of us\, it becomes your new normal. Let’s worship our saviour in truth and spirit. We wholeheartedly welcome you to join us.
URL:https://graceofthelordministries.com/event/sunday-service-2/
LOCATION:Växthuset\, Patron Pehrs väg 3\, Huddinge\, Stockholm\, 14135\, Sweden
CATEGORIES:Our Events,Weekly Events
ATTACH;FMTTYPE=image/jpeg:https://graceofthelordministries.com/wp-content/uploads/2017/01/SUNDAY-SERVICE-1.jpeg
ORGANIZER;CN="Grace of the Lord Ministries":MAILTO:info@graceofthelordministries.com
END:VEVENT
BEGIN:VEVENT
DTSTART;TZID=UTC:20260331T183000
DTEND;TZID=UTC:20260331T193000
DTSTAMP:20260419T184517
CREATED:20211231T005631Z
LAST-MODIFIED:20260321T105005Z
UID:1591-1774981800-1774985400@graceofthelordministries.com
SUMMARY:Womens Prayer
DESCRIPTION:“Bear ye one another’s burdens\, and so fulfil the law of Christ.” Galatians 6:2 \nLet us all join hands together and pray to the Lord with the Spirit and perseverance for revival in the lives of women’s – for revival\, for families to be build and for each one to be transformed into wise women. \nEvery Tuesday sisters join hands together at 18:30 via Zoom: https://us06web.zoom.us/j/6170082006?pwd=YkZ2cWM1djBFSWNHQ2VZdER1WGxwdz09.
URL:https://graceofthelordministries.com/event/womens-prayer-2/
LOCATION:Zoom\, Sweden
CATEGORIES:Our Events,Weekly Events
ATTACH;FMTTYPE=image/jpeg:https://graceofthelordministries.com/wp-content/uploads/2017/01/WOMENS-PRAYER.jpeg
ORGANIZER;CN="Grace of the Lord Ministries":MAILTO:info@graceofthelordministries.com
END:VEVENT
END:VCALENDAR